BEGIN:VCALENDAR
VERSION:2.0
PRODID: -//CMS 5.0 //NONSGML //DE
BEGIN:VEVENT
SUMMARY:Kindertag 2026
DESCRIPTION:Der diesjährige Kindertag beginnt um 10:00 Uhr mit einem Ki
 ndergottesdienst.\n\n\n\nhttps://bezirk-magdeburg.nak-nordost.de/db/596
 490
UID:596490@bezirk-magdeburg.nak-nordost.de
LOCATION:Sven Kumke
CATEGORIES:Gottesdienst,Kirchenbezirk Magdeburg (Alle Gemeinden),Kinder
X-ORGANIZER:
STATUS:CONFIRMED
CLASS:PUBLIC
DTSTART:20260621T080000Z
DTEND:20260621T080000Z
DTSTAMP:20260420T021146Z
CREATED:20260326T112724Z
LAST-MODIFIED:20260326T112741Z
BEGIN:VALARM
UID:4891C762-3C5E-11F1-BDE6-CE585029324C
TRIGGER:-PT60M
ACTION:DISPLAY
DESCRIPTION:SUMMARY:Kindertag 2026
END:VALARM
END:VEVENT
END:VCALENDAR
